BEGIN:VCALENDAR
VERSION:2.0
PRODID:-//Squarespace Inc/Squarespace 6//v6//EN
BEGIN:VEVENT
UID:5d37a7b2f98fdc00012b3a5b@squarespace.com
DTSTAMP:20210221T193331Z
DTSTART:20200314T033000Z
DTEND:20200314T060000Z
SUMMARY:Celebrate Goulburn Group Inc - Special Afternoon Tea and presentati
 on of "History with a Difference" with Elizabeth Burness
END:VEVENT
END:VCALENDAR
