BEGIN:VCALENDAR
VERSION:2.0
PRODID:-//Squarespace Inc/Squarespace 6//v6//EN
BEGIN:VEVENT
UID:6032b58b520a7560ba8800a0@squarespace.com
DTSTAMP:20210223T202335Z
DTSTART:20210313T033000Z
DTEND:20210313T060000Z
SUMMARY:Celebrate Goulburn Group Inc - Special Presentation of "Fun with Fa
 shion" with Elizabeth Burness
END:VEVENT
END:VCALENDAR
