BEGIN:VCALENDAR
VERSION:2.0
PRODID:-//Squarespace Inc/Squarespace 6//v6//EN
BEGIN:VEVENT
UID:5e394084fe39f83e2a472037@squarespace.com
DTSTAMP:20200309T102846Z
DTSTART:20200312T233000Z
DTEND:20200313T010000Z
SUMMARY:CANCELLED || St Joseph's Orphanage Tour || CANCELLED
END:VEVENT
END:VCALENDAR
