BEGIN:VCALENDAR
VERSION:2.0
PRODID:-//Squarespace Inc/Squarespace 6//v6//EN
BEGIN:VEVENT
UID:5e1a71dbe07fd33951dc5207@squarespace.com
DTSTAMP:20210221T202405Z
DTSTART:20200313T233000Z
DTEND:20200314T010000Z
SUMMARY:Shoalhaven River Talk with Phillip Leighton-Daly
END:VEVENT
END:VCALENDAR
