BEGIN:VCALENDAR
VERSION:2.0
PRODID:-//Squarespace Inc/Squarespace 6//v6//EN
BEGIN:VEVENT
UID:6032c1655a30be43ecfc5499@squarespace.com
DTSTAMP:20210221T203510Z
DTSTART:20210312T233000Z
DTEND:20210313T003000Z
SUMMARY:Goulburn Library - 'Aliens' (Post WWII Displaced Persons) in Goulbu
 rn and District with Nadia Johnson
END:VEVENT
END:VCALENDAR
