BEGIN:VCALENDAR
VERSION:2.0
PRODID:-//Squarespace Inc/Squarespace 6//v6//EN
BEGIN:VEVENT
UID:6032c3fefbafeb748e19aa58@squarespace.com
DTSTAMP:20210221T203917Z
DTSTART:20210314T033000Z
DTEND:20210314T043000Z
SUMMARY:Goulburn Library - Goulburn's Changing Landscapes in Photographs wi
 th David Flannery
END:VEVENT
END:VCALENDAR
