BEGIN:VCALENDAR
VERSION:2.0
PRODID:-//Squarespace Inc/Squarespace 6//v6//EN
BEGIN:VEVENT
UID:5e1a6173e07fd33951dacb35@squarespace.com
DTSTAMP:20200204T093940Z
DTSTART:20200315T233000Z
DTEND:20200316T040000Z
SUMMARY:"Riversdale" National Trust Historic Homestead - Researching the Hi
 story of Your House
END:VEVENT
END:VCALENDAR
