BEGIN:VCALENDAR
VERSION:2.0
PRODID:-//Squarespace Inc/Squarespace 6//v6//EN
BEGIN:VEVENT
UID:5e360a5fe0e4342444226711@squarespace.com
DTSTAMP:20200204T093905Z
DTSTART:20200314T230000Z
DTEND:20200315T030000Z
SUMMARY:"Riversdale" National Trust Historic Homestead - Devonshire Tea
END:VEVENT
END:VCALENDAR
