BEGIN:VCALENDAR
VERSION:2.0
PRODID:-//Squarespace Inc/Squarespace 6//v6//EN
BEGIN:VEVENT
UID:6031b08f12ac5b6cf21ba1c1@squarespace.com
DTSTAMP:20210223T201418Z
DTSTART:20210313T230000Z
DTEND:20210314T050000Z
SUMMARY:Goulburn Historic Waterworks
END:VEVENT
END:VCALENDAR
