BEGIN:VCALENDAR
VERSION:2.0
PRODID:-//Squarespace Inc/Squarespace 6//v6//EN
BEGIN:VEVENT
UID:6031b548ca61a13c9833ef4f@squarespace.com
DTSTAMP:20210221T202241Z
DTSTART:20210313T230000Z
DTEND:20210314T020000Z
SUMMARY:Goulburn Historical Cemeteries - Visit the Mortis Street Cemetery
END:VEVENT
END:VCALENDAR
