BEGIN:VCALENDAR
VERSION:2.0
PRODID:-//Squarespace Inc/Squarespace 6//v6//EN
BEGIN:VEVENT
UID:5a7cd5bb085229ad2a710426@squarespace.com
DTSTAMP:20200309T102900Z
DTSTART:20200313T230000Z
DTEND:20200314T003000Z
SUMMARY:Goulburn Mulwaree Council: Goulburn City's 157th Birthday and Cake 
 Cutting
END:VEVENT
END:VCALENDAR
