BEGIN:VCALENDAR
VERSION:2.0
PRODID:-//Squarespace Inc/Squarespace 6//v6//EN
BEGIN:VEVENT
UID:5e3644942eda9752712b125e@squarespace.com
DTSTAMP:20200309T102826Z
DTSTART:20200312T230000Z
DTEND:20200315T050000Z
SUMMARY:Gallery On Track - "Roses and Heritage"
END:VEVENT
END:VCALENDAR
