BEGIN:VCALENDAR
VERSION:2.0
PRODID:-//Squarespace Inc/Squarespace 6//v6//EN
BEGIN:VEVENT
UID:6031a555520a7560ba79f13f@squarespace.com
DTSTAMP:20210224T014413Z
DTSTART:20210312T230000Z
DTEND:20210314T050000Z
SUMMARY:Gallery On Track
END:VEVENT
END:VCALENDAR
